BEGIN:VCALENDAR
VERSION:2.0
PRODID:-//wp-events-plugin.com//7.2.3.1//EN
TZID:Europe/Brussels
X-WR-TIMEZONE:Europe/Brussels
BEGIN:VEVENT
UID:5@timberdiving.be
DTSTART;TZID=Europe/Brussels:20190929T103000
DTEND;TZID=Europe/Brussels:20190929T103000
DTSTAMP:20190927T150136Z
URL:https://timberdiving.be/events/test-1/
SUMMARY:Test 1
DESCRIPTION:Ceci est une activité test pour le module réservation
END:VEVENT
BEGIN:VTIMEZONE
TZID:Europe/Brussels
X-LIC-LOCATION:Europe/Brussels
BEGIN:DAYLIGHT
DTSTART:20190331T030000
TZOFFSETFROM:+0100
TZOFFSETTO:+0200
TZNAME:CEST
END:DAYLIGHT
END:VTIMEZONE
END:VCALENDAR