BEGIN:VCALENDAR
VERSION:2.0
PRODID:-//wp-events-plugin.com//7.2.3.1//EN
TZID:Europe/Brussels
X-WR-TIMEZONE:Europe/Brussels
BEGIN:VEVENT
UID:1@timberdiving.be
DTSTART;TZID=Europe/Brussels:20190827T180000
DTEND;TZID=Europe/Brussels:20190827T220000
DTSTAMP:20190924T094240Z
URL:https://timberdiving.be/events/plongee-test/
SUMMARY:Plongée (test)
DESCRIPTION:Plongée en semaine à la carrière des 3 Fontaines
END:VEVENT
BEGIN:VTIMEZONE
TZID:Europe/Brussels
X-LIC-LOCATION:Europe/Brussels
BEGIN:DAYLIGHT
DTSTART:20190331T030000
TZOFFSETFROM:+0100
TZOFFSETTO:+0200
TZNAME:CEST
END:DAYLIGHT
END:VTIMEZONE
END:VCALENDAR