BEGIN:VCALENDAR
VERSION:2.0
PRODID:-//wp-events-plugin.com//7.2.3.1//EN
TZID:Europe/Brussels
X-WR-TIMEZONE:Europe/Brussels
BEGIN:VEVENT
UID:366@timberdiving.be
DTSTART;TZID=Europe/Brussels:20200609T183000
DTEND;TZID=Europe/Brussels:20200609T203000
DTSTAMP:20200528T204331Z
URL:https://timberdiving.be/events/plongee-de-18h30-a-20h30-3-2020-06-09/
SUMMARY:Plongée de 18h30 à 20h30
DESCRIPTION:Slot de 2 heures\n  - Le nombre de places de parking disponible
 s limite les inscriptions\n  - Maximum 2 plongeurs par voiture\n  - Vous d
 evez arriver à l’heure précise de votre réservation.\n  - Vous dispos
 ez de 30 minutes pour vous équiper\, 1 heures de plongée maximum et ensu
 ite 30 minutes pour vous déséquiper.\n  - A l’heure d’expiration de 
 votre slot\, vous devez avoir quitté le site.\n  - Pas de vestiaire\, ni 
 d’arrêt dans le tunnel.\n  - La plongée doit être payée avant de s
 ’immerger.\n  - Chacun est responsable du respect des règles de distanc
 iation.\n  - NOUVEAU : Vous pouvez commander des burgers (à emporter uniq
 uement)\n\nPar le simple fait de leur inscription\, tous les plongeurs mar
 quent implicitement leur accord avec les conditions d'accès à la carriè
 re
END:VEVENT
BEGIN:VTIMEZONE
TZID:Europe/Brussels
X-LIC-LOCATION:Europe/Brussels
BEGIN:DAYLIGHT
DTSTART:20200329T030000
TZOFFSETFROM:+0100
TZOFFSETTO:+0200
TZNAME:CEST
END:DAYLIGHT
END:VTIMEZONE
END:VCALENDAR