BEGIN:VCALENDAR
VERSION:2.0
PRODID:-//wp-events-plugin.com//7.2.3.1//EN
TZID:Europe/Brussels
X-WR-TIMEZONE:Europe/Brussels
BEGIN:VEVENT
UID:279@timberdiving.be
DTSTART;TZID=Europe/Brussels:20200601T143000
DTEND;TZID=Europe/Brussels:20200601T163000
DTSTAMP:20200521T083852Z
URL:https://timberdiving.be/events/plongee-de-14h30-a-16h30-2-2020-06-01/
SUMMARY:Plongée de 14h30 à 16h30
DESCRIPTION:Slots de 2 heures durant lesquels une seule palanquée (2 plong
 eurs) peut s’inscrire.\n  - Vous devez arriver à l’heure précise de 
 votre réservation.\n  - Vous disposez de 30 minutes pour vous équiper\, 
 1 heures de plongée maximum et ensuite 30 minutes pour vous déséquiper.
 \n  - A l’heure d’expiration de votre slot\, vous devez avoir quitté 
 le site.\n  - Pas de vestiaire\, ni d’arrêt dans le tunnel.\n  - La plo
 ngée doit être payée avant de s’immerger.\n  - Chacun est responsable
  du respect des règles de distanciation.\n\nPar le simple fait de votre i
 nscription\, vous marquez implicitement votre accord avec les conditions d
 'accès à la carrière
END:VEVENT
BEGIN:VTIMEZONE
TZID:Europe/Brussels
X-LIC-LOCATION:Europe/Brussels
BEGIN:DAYLIGHT
DTSTART:20200329T030000
TZOFFSETFROM:+0100
TZOFFSETTO:+0200
TZNAME:CEST
END:DAYLIGHT
END:VTIMEZONE
END:VCALENDAR